BEGIN:VCALENDAR
VERSION:2.0
PRODID:-//PYVOBJECT//NONSGML Version 1//EN
BEGIN:VEVENT
UID:22865:4464
DTSTART:20170114T090000
DTEND:20170114T170000
DESCRIPTION:\n	In der yinnigsten Jahreszeit steht die Natur still. Alles Le
 ben drau&szlig\;en hat sich weitgehend zur&uuml\;ckgezogen. Wir konzentrie
 ren uns auf&rsquo\;s Speichern und achten insbesondere auf die Organe Nier
 e und Blase\, kochen mit w&auml\;rmenden und st&auml\;rkenden Lebensmittel
 n um uns von innen vor der K&auml\;lte zu sch&uuml\;tzen und um unsere Sti
 mmung entsprechend aufzuhellen. Mittags kochen wir uns ein gemeinsames\, k
 &ouml\;stliches Mittagessen.\n	\n	Ort: am wundersch&ouml\;nen Biohof Lauss
 abauer\, Bichl 7\, 8932 Weissenbach\n	\n	Energieausgleich: EUR 115\,-- pro
  Person. Kosten f&uuml\;r Verpflegung (haupts&auml\;chlich Biolebensmittel
 ) inklusive.\n\n	Beschr&auml\;nkte Teilnehmerzahl\, bitte um Voranmeldung 
 bis sp&auml\;testens Montag\, 9. J&auml\;nner 2017 unter Tel. 0680 215 79 
 88.\n
DTSTAMP:20260421T212415Z
SUMMARY:Seminar "Warmes für kalte Tage" Ernährung im Winter nach TCM
END:VEVENT
END:VCALENDAR
